BEGIN:VCALENDAR
METHOD:REQUEST
PRODID:-//events.orgNONSGML ical.net 4.0//EN
VERSION:2.0
BEGIN:VEVENT
DTEND;VALUE=DATE:20260723
DTSTAMP:20260422T090626Z
DTSTART;VALUE=DATE:20260723
LOCATION:Toyota Center\, Houston
ORGANIZER;CN=:mailto:events@events.org
SEQUENCE:0
SUMMARY:Grupo Frontera - Triste Pero Bien C*bron Tour
UID:466a8e09-9132-4730-a332-f5f83c1c0274
URL:https://events.org/e/Grupo-Frontera---Triste-Pero-Bien-Cbron-Tour/LYO8
 MQ9A
BEGIN:VALARM
ACTION:DISPLAY
SUMMARY:Reminder
TRIGGER:-P1D
END:VALARM
END:VEVENT
END:VCALENDAR
