BEGIN:VCALENDAR
METHOD:REQUEST
PRODID:-//events.orgNONSGML ical.net 4.0//EN
VERSION:2.0
BEGIN:VEVENT
DTEND;VALUE=DATE:20260712
DTSTAMP:20260424T092220Z
DTSTART;VALUE=DATE:20260712
LOCATION:Oracle Park\, San Francisco
ORGANIZER;CN=:mailto:events@events.org
SEQUENCE:0
SUMMARY:San Francisco Giants vs Colorado Rockies: SpongeBob SquarePants Hat
UID:1caad04f-1d7d-4df0-9717-94c3126be359
URL:https://events.org/e/San-Francisco-Giants-vs-Colorado-Rockies-Spon/87S
 9V9P6
BEGIN:VALARM
ACTION:DISPLAY
SUMMARY:Reminder
TRIGGER:-P1D
END:VALARM
END:VEVENT
END:VCALENDAR
