BEGIN:VCALENDAR
METHOD:REQUEST
PRODID:-//events.orgNONSGML ical.net 4.0//EN
VERSION:2.0
BEGIN:VEVENT
DTEND;VALUE=DATE:20260324
DTSTAMP:20260421T082000Z
DTSTART;VALUE=DATE:20260324
LOCATION:The Moroccan Lounge\, Los Angeles
ORGANIZER;CN=:mailto:events@events.org
SEQUENCE:0
SUMMARY:Mannequin Death Squad
UID:a007bb37-754f-420c-af01-608a8c584e4c
URL:https://events.org/e/Mannequin-Death-Squad/5JQ38XOQ
BEGIN:VALARM
ACTION:DISPLAY
SUMMARY:Reminder
TRIGGER:-P1D
END:VALARM
END:VEVENT
END:VCALENDAR
