BEGIN:VCALENDAR
METHOD:REQUEST
PRODID:-//events.orgNONSGML ical.net 4.0//EN
VERSION:2.0
BEGIN:VEVENT
DTEND;VALUE=DATE:20260708
DTSTAMP:20260424T092327Z
DTSTART;VALUE=DATE:20260708
LOCATION:Taproot Theatre\, Seattle
ORGANIZER;CN=:mailto:events@events.org
SEQUENCE:0
SUMMARY:Joseph and the Amazing Technicolor Dreamcoat
UID:b0ea86b4-73b4-4fb6-90ff-e223355a8197
URL:https://events.org/e/Joseph-and-the-Amazing-Technicolor-Dreamcoat/I3A5
 TFWI
BEGIN:VALARM
ACTION:DISPLAY
SUMMARY:Reminder
TRIGGER:-P1D
END:VALARM
END:VEVENT
END:VCALENDAR
