BEGIN:VCALENDAR
METHOD:REQUEST
PRODID:-//events.orgNONSGML ical.net 4.0//EN
VERSION:2.0
BEGIN:VEVENT
DTEND;VALUE=DATE:20260529
DTSTAMP:20260424T081251Z
DTSTART;VALUE=DATE:20260529
LOCATION:Second City-Chicago: Mainstage\, Chicago
ORGANIZER;CN=:mailto:events@events.org
SEQUENCE:0
SUMMARY:The Second City Mainstage 114th Revue (Minors must be accompanied 
 by an adult)
UID:c9faf361-46ed-4847-b1d0-179d7aca7242
URL:https://events.org/e/The-Second-City-Mainstage-114th-Revue-Minors/6MEL
 2824
BEGIN:VALARM
ACTION:DISPLAY
SUMMARY:Reminder
TRIGGER:-P1D
END:VALARM
END:VEVENT
END:VCALENDAR
