BEGIN:VCALENDAR
METHOD:REQUEST
PRODID:-//events.orgNONSGML ical.net 4.0//EN
VERSION:2.0
BEGIN:VEVENT
DTEND;VALUE=DATE:20260709
DTSTAMP:20260422T092207Z
DTSTART;VALUE=DATE:20260709
LOCATION:Center Stage Theater\, Atlanta
ORGANIZER;CN=:mailto:events@events.org
SEQUENCE:0
SUMMARY:Pour Minds: Still Sippin' Tour
UID:f6a74187-c498-42f2-a655-70410efb9a29
URL:https://events.org/e/Pour-Minds-Still-Sippin-Tour/FGHNYLI7
BEGIN:VALARM
ACTION:DISPLAY
SUMMARY:Reminder
TRIGGER:-P1D
END:VALARM
END:VEVENT
END:VCALENDAR
