BEGIN:VCALENDAR
METHOD:REQUEST
PRODID:-//events.orgNONSGML ical.net 4.0//EN
VERSION:2.0
BEGIN:VEVENT
DTEND;VALUE=DATE:20260527
DTSTAMP:20260421T095606Z
DTSTART;VALUE=DATE:20260527
LOCATION:Fox Theatre - Atlanta\, Atlanta
ORGANIZER;CN=:mailto:events@events.org
SEQUENCE:0
SUMMARY:Beauty And The Beast (Touring)
UID:b15596e0-9fbb-4d25-837d-fa199fdbf6f0
URL:https://events.org/e/Beauty-And-The-Beast-Touring/T3SDLQH7
BEGIN:VALARM
ACTION:DISPLAY
SUMMARY:Reminder
TRIGGER:-P1D
END:VALARM
END:VEVENT
END:VCALENDAR
