BEGIN:VCALENDAR
METHOD:REQUEST
PRODID:-//events.orgNONSGML ical.net 4.0//EN
VERSION:2.0
BEGIN:VEVENT
DTEND;VALUE=DATE:20270101
DTSTAMP:20260421T082223Z
DTSTART;VALUE=DATE:20270101
LOCATION:Hard Rock Cafe Miami\, Miami
ORGANIZER;CN=:mailto:events@events.org
SEQUENCE:0
SUMMARY:Ride and Dine! Hard Rock Cafe Miami and Big Bus Tours Miami
UID:3584b8b8-e437-45d1-a5c4-aaa699a355de
URL:https://events.org/e/Ride-and-Dine-Hard-Rock-Cafe-Miami-and-Big-Bu/CMY
 FXR2Y
BEGIN:VALARM
ACTION:DISPLAY
SUMMARY:Reminder
TRIGGER:-P1D
END:VALARM
END:VEVENT
END:VCALENDAR
