BEGIN:VCALENDAR
METHOD:REQUEST
PRODID:-//events.orgNONSGML ical.net 4.0//EN
VERSION:2.0
BEGIN:VEVENT
DTEND;VALUE=DATE:20260805
DTSTAMP:20260421T081825Z
DTSTART;VALUE=DATE:20260805
LOCATION:Nikki Lopez Philly\, Philadelphia
ORGANIZER;CN=:mailto:events@events.org
SEQUENCE:0
SUMMARY:Johnny Manchild & The Poor Bastards
UID:2d2dc9e8-bccb-42c4-a871-ac8b2bdab91d
URL:https://events.org/e/Johnny-Manchild-The-Poor-Bastards/3XKNUC6I
BEGIN:VALARM
ACTION:DISPLAY
SUMMARY:Reminder
TRIGGER:-P1D
END:VALARM
END:VEVENT
END:VCALENDAR
