BEGIN:VCALENDAR
METHOD:REQUEST
PRODID:-//events.orgNONSGML ical.net 4.0//EN
VERSION:2.0
BEGIN:VEVENT
DTEND;VALUE=DATE:20260521
DTSTAMP:20260422T090626Z
DTSTART;VALUE=DATE:20260521
LOCATION:The Echo\, Los Angeles
ORGANIZER;CN=:mailto:events@events.org
SEQUENCE:0
SUMMARY:Gatlin with Kate Stephenson
UID:03b1669e-54cc-4368-886a-6fa7f4ca3c08
URL:https://events.org/e/Gatlin-with-Kate-Stephenson/2SK6T99W
BEGIN:VALARM
ACTION:DISPLAY
SUMMARY:Reminder
TRIGGER:-P1D
END:VALARM
END:VEVENT
END:VCALENDAR
