BEGIN:VCALENDAR
METHOD:REQUEST
PRODID:-//events.orgNONSGML ical.net 4.0//EN
VERSION:2.0
BEGIN:VEVENT
DTEND;VALUE=DATE:20260606
DTSTAMP:20260419T153343Z
DTSTART;VALUE=DATE:20260606
LOCATION:Swedish American Hall\, San Francisco
ORGANIZER;CN=:mailto:events@events.org
SEQUENCE:0
SUMMARY:Private Event
UID:08c95560-f835-4bb2-8a73-cc6cdfee9f1c
URL:https://events.org/e/Private-Event/YEN52IS7
BEGIN:VALARM
ACTION:DISPLAY
SUMMARY:Reminder
TRIGGER:-P1D
END:VALARM
END:VEVENT
END:VCALENDAR
