BEGIN:VCALENDAR
METHOD:REQUEST
PRODID:-//events.orgNONSGML ical.net 4.0//EN
VERSION:2.0
BEGIN:VEVENT
DTEND;VALUE=DATE:20260403
DTSTAMP:20260421T082244Z
DTSTART;VALUE=DATE:20260403
LOCATION:WAMU Theater\, Seattle
ORGANIZER;CN=:mailto:events@events.org
SEQUENCE:0
SUMMARY:RAYE - THIS TOUR MAY CONTAIN NEW MUSIC
UID:d798c3c6-979e-4e26-8837-04e290c7b5f5
URL:https://events.org/e/RAYE---THIS-TOUR-MAY-CONTAIN-NEW-MUSIC/U5X9GLKA
BEGIN:VALARM
ACTION:DISPLAY
SUMMARY:Reminder
TRIGGER:-P1D
END:VALARM
END:VEVENT
END:VCALENDAR
