BEGIN:VCALENDAR
METHOD:REQUEST
PRODID:-//events.orgNONSGML ical.net 4.0//EN
VERSION:2.0
BEGIN:VEVENT
DTEND;VALUE=DATE:20260617
DTSTAMP:20260421T103726Z
DTSTART;VALUE=DATE:20260617
LOCATION:Marquis\, Denver
ORGANIZER;CN=:mailto:events@events.org
SEQUENCE:0
SUMMARY:Thee Marloes
UID:11add076-0cc8-439e-a9d0-b65f5b66eb2d
URL:https://events.org/e/Thee-Marloes/J8QEI56X
BEGIN:VALARM
ACTION:DISPLAY
SUMMARY:Reminder
TRIGGER:-P1D
END:VALARM
END:VEVENT
END:VCALENDAR
