BEGIN:VCALENDAR
METHOD:REQUEST
PRODID:-//events.orgNONSGML ical.net 4.0//EN
VERSION:2.0
BEGIN:VEVENT
DTEND;VALUE=DATE:20260715
DTSTAMP:20260422T085325Z
DTSTART;VALUE=DATE:20260715
LOCATION:Mercedes-Benz Stadium\, Atlanta
ORGANIZER;CN=:mailto:events@events.org
SEQUENCE:0
SUMMARY:World Cup Semifinals: W99 vs. W100 (Match 102)
UID:4fa9b25b-64d6-4152-9a03-7307fb068a45
URL:https://events.org/e/World-Cup-Semifinals-W99-vs-W100-Match-102/9797G8
 46
BEGIN:VALARM
ACTION:DISPLAY
SUMMARY:Reminder
TRIGGER:-P1D
END:VALARM
END:VEVENT
END:VCALENDAR
