BEGIN:VCALENDAR
METHOD:REQUEST
PRODID:-//events.orgNONSGML ical.net 4.0//EN
VERSION:2.0
BEGIN:VEVENT
DTEND;VALUE=DATE:20260613
DTSTAMP:20260423T134300Z
DTSTART;VALUE=DATE:20260613
LOCATION:The Castro Theatre\, San Francisco
ORGANIZER;CN=:mailto:events@events.org
SEQUENCE:0
SUMMARY:The Crane Wives - ACT II with special guest Yasmin Williams
UID:9450c303-904e-4eee-82c8-24a386d26958
URL:https://events.org/e/The-Crane-Wives---ACT-II-with-special-guest-Y/VEP
 37NYK
BEGIN:VALARM
ACTION:DISPLAY
SUMMARY:Reminder
TRIGGER:-P1D
END:VALARM
END:VEVENT
END:VCALENDAR
