BEGIN:VCALENDAR
METHOD:REQUEST
PRODID:-//events.orgNONSGML ical.net 4.0//EN
VERSION:2.0
BEGIN:VEVENT
DTEND;VALUE=DATE:20260623
DTSTAMP:20260425T102054Z
DTSTART;VALUE=DATE:20260623
LOCATION:Guthrie Theater - McGuire Proscenium Stage\, Minneapolis
ORGANIZER;CN=:mailto:events@events.org
SEQUENCE:0
SUMMARY:Come from Away
UID:78c1abdf-4f22-48e4-97ec-9e093e4c171e
URL:https://events.org/e/Come-from-Away/LI39UUS2
BEGIN:VALARM
ACTION:DISPLAY
SUMMARY:Reminder
TRIGGER:-P1D
END:VALARM
END:VEVENT
END:VCALENDAR
