BEGIN:VCALENDAR
METHOD:REQUEST
PRODID:-//events.orgNONSGML ical.net 4.0//EN
VERSION:2.0
BEGIN:VEVENT
DTEND;VALUE=DATE:20260523
DTSTAMP:20260421T104348Z
DTSTART;VALUE=DATE:20260523
LOCATION:Detroit Opera House\, Detroit
ORGANIZER;CN=:mailto:events@events.org
SEQUENCE:0
SUMMARY:The Masterclass Tour Trap Orchestra Featuring Gucci Mane
UID:935ff1ed-41c3-448f-8763-d2a39f9863ae
URL:https://events.org/e/The-Masterclass-Tour-Trap-Orchestra-Featuring/D4F
 JIYT9
BEGIN:VALARM
ACTION:DISPLAY
SUMMARY:Reminder
TRIGGER:-P1D
END:VALARM
END:VEVENT
END:VCALENDAR
