BEGIN:VCALENDAR
METHOD:REQUEST
PRODID:-//events.orgNONSGML ical.net 4.0//EN
VERSION:2.0
BEGIN:VEVENT
DTEND;VALUE=DATE:20260630
DTSTAMP:20260421T130323Z
DTSTART;VALUE=DATE:20260630
LOCATION:Trump Kennedy Center - Opera House\, Washington
ORGANIZER;CN=:mailto:events@events.org
SEQUENCE:0
SUMMARY:Moulin Rouge (Touring)
UID:9925029a-d4cc-45f3-8cda-47b8100dcab7
URL:https://events.org/e/Moulin-Rouge-Touring/QINEJGSN
BEGIN:VALARM
ACTION:DISPLAY
SUMMARY:Reminder
TRIGGER:-P1D
END:VALARM
END:VEVENT
END:VCALENDAR
