BEGIN:VCALENDAR
METHOD:REQUEST
PRODID:-//events.orgNONSGML ical.net 4.0//EN
VERSION:2.0
BEGIN:VEVENT
DTEND;VALUE=DATE:20260531
DTSTAMP:20260419T154305Z
DTSTART;VALUE=DATE:20260531
LOCATION:Bluebird Theatre\, Denver
ORGANIZER;CN=:mailto:events@events.org
SEQUENCE:0
SUMMARY:KBong and Johnny Cosmic (16 and Over)
UID:1f1b8f03-2a53-4fe4-a535-694b5b47db58
URL:https://events.org/e/KBong-and-Johnny-Cosmic-16-and-Over/PEB7BVVX
BEGIN:VALARM
ACTION:DISPLAY
SUMMARY:Reminder
TRIGGER:-P1D
END:VALARM
END:VEVENT
END:VCALENDAR
