BEGIN:VCALENDAR
METHOD:REQUEST
PRODID:-//events.orgNONSGML ical.net 4.0//EN
VERSION:2.0
BEGIN:VEVENT
DTEND;VALUE=DATE:20260429
DTSTAMP:20260424T080846Z
DTSTART;VALUE=DATE:20260429
LOCATION:The Theater Center\, New York
ORGANIZER;CN=:mailto:events@events.org
SEQUENCE:0
SUMMARY:Pied-à-Terre
UID:a6434212-bf5f-4535-b8dc-9ec23ce9d387
URL:https://events.org/e/Pied-a-Terre/UVY9TE7Y
BEGIN:VALARM
ACTION:DISPLAY
SUMMARY:Reminder
TRIGGER:-P1D
END:VALARM
END:VEVENT
END:VCALENDAR
