BEGIN:VCALENDAR
METHOD:REQUEST
PRODID:-//events.orgNONSGML ical.net 4.0//EN
VERSION:2.0
BEGIN:VEVENT
DTEND;VALUE=DATE:20260708
DTSTAMP:20260422T084751Z
DTSTART;VALUE=DATE:20260708
LOCATION:The Independent\, San Francisco
ORGANIZER;CN=:mailto:events@events.org
SEQUENCE:0
SUMMARY:High Fade
UID:b997cde1-646a-4933-ab7b-d5b14cef065d
URL:https://events.org/e/High-Fade/FHB9JYPP
BEGIN:VALARM
ACTION:DISPLAY
SUMMARY:Reminder
TRIGGER:-P1D
END:VALARM
END:VEVENT
END:VCALENDAR
