BEGIN:VCALENDAR
METHOD:REQUEST
PRODID:-//events.orgNONSGML ical.net 4.0//EN
VERSION:2.0
BEGIN:VEVENT
DTEND;VALUE=DATE:20260426
DTSTAMP:20260422T084244Z
DTSTART;VALUE=DATE:20260426
LOCATION:Blue Note Jazz Club\, New York
ORGANIZER;CN=:mailto:events@events.org
SEQUENCE:0
SUMMARY:The World Famous Harlem Gospel Choir
UID:53bc9e44-fa07-4366-8e66-faf42452c4c9
URL:https://events.org/e/The-World-Famous-Harlem-Gospel-Choir/IG9JTXCW
BEGIN:VALARM
ACTION:DISPLAY
SUMMARY:Reminder
TRIGGER:-P1D
END:VALARM
END:VEVENT
END:VCALENDAR
