BEGIN:VCALENDAR
METHOD:REQUEST
PRODID:-//events.orgNONSGML ical.net 4.0//EN
VERSION:2.0
BEGIN:VEVENT
DTEND;VALUE=DATE:20260628
DTSTAMP:20260423T134143Z
DTSTART;VALUE=DATE:20260628
LOCATION:Citizens House of Blues Boston\, Boston
ORGANIZER;CN=:mailto:events@events.org
SEQUENCE:0
SUMMARY:French Montana And Max B - Wave Gods Narcos Tour
UID:68b2c1e3-6223-48ff-9ba1-85ce4ef6a97d
URL:https://events.org/e/French-Montana-And-Max-B---Wave-Gods-Narcos-Tour/
 532FYY6X
BEGIN:VALARM
ACTION:DISPLAY
SUMMARY:Reminder
TRIGGER:-P1D
END:VALARM
END:VEVENT
END:VCALENDAR
