BEGIN:VCALENDAR
METHOD:REQUEST
PRODID:-//events.orgNONSGML ical.net 4.0//EN
VERSION:2.0
BEGIN:VEVENT
DTEND;VALUE=DATE:20260507
DTSTAMP:20260423T171848Z
DTSTART;VALUE=DATE:20260507
LOCATION:Clock-Out Lounge\, Seattle
ORGANIZER;CN=:mailto:events@events.org
SEQUENCE:0
SUMMARY:Tractor Presents: Rose City Band w/ Serafima and The Shakedowns
UID:9e04e0a8-876d-4f8a-ab9f-d04cff3263b1
URL:https://events.org/e/Tractor-Presents-Rose-City-Band-w-Serafima-an/2AP
 TJ8V7
BEGIN:VALARM
ACTION:DISPLAY
SUMMARY:Reminder
TRIGGER:-P1D
END:VALARM
END:VEVENT
END:VCALENDAR
