BEGIN:VCALENDAR
METHOD:REQUEST
PRODID:-//events.orgNONSGML ical.net 4.0//EN
VERSION:2.0
BEGIN:VEVENT
DTEND;VALUE=DATE:20260717
DTSTAMP:20260421T103726Z
DTSTART;VALUE=DATE:20260717
LOCATION:Club Vinyl\, Denver
ORGANIZER;CN=:mailto:events@events.org
SEQUENCE:0
SUMMARY:PYKE
UID:3abbb1f9-6da1-44e3-abb7-a635692b600d
URL:https://events.org/e/PYKE/99O852DO
BEGIN:VALARM
ACTION:DISPLAY
SUMMARY:Reminder
TRIGGER:-P1D
END:VALARM
END:VEVENT
END:VCALENDAR
