BEGIN:VCALENDAR
METHOD:REQUEST
PRODID:-//events.orgNONSGML ical.net 4.0//EN
VERSION:2.0
BEGIN:VEVENT
DTEND;VALUE=DATE:20260515
DTSTAMP:20260423T133211Z
DTSTART;VALUE=DATE:20260515
LOCATION:JUNKYARD\, Denver
ORGANIZER;CN=:mailto:events@events.org
SEQUENCE:0
SUMMARY:Armin van Buuren
UID:849ac7f1-db21-45a4-9644-99a57d1bab76
URL:https://events.org/e/Armin-van-Buuren/GNEHPKS6
BEGIN:VALARM
ACTION:DISPLAY
SUMMARY:Reminder
TRIGGER:-P1D
END:VALARM
END:VEVENT
END:VCALENDAR
