BEGIN:VCALENDAR
METHOD:REQUEST
PRODID:-//events.orgNONSGML ical.net 4.0//EN
VERSION:2.0
BEGIN:VEVENT
DTEND;VALUE=DATE:20260528
DTSTAMP:20260421T082346Z
DTSTART;VALUE=DATE:20260528
LOCATION:The Masquerade - Purgatory\, Atlanta
ORGANIZER;CN=:mailto:events@events.org
SEQUENCE:0
SUMMARY:The Rare Occasions
UID:49205fd7-d7d4-42ea-98ef-4fb3c0e1621a
URL:https://events.org/e/The-Rare-Occasions/YBKLCRVJ
BEGIN:VALARM
ACTION:DISPLAY
SUMMARY:Reminder
TRIGGER:-P1D
END:VALARM
END:VEVENT
END:VCALENDAR
