BEGIN:VCALENDAR
METHOD:REQUEST
PRODID:-//events.orgNONSGML ical.net 4.0//EN
VERSION:2.0
BEGIN:VEVENT
DTEND;VALUE=DATE:20260523
DTSTAMP:20260424T080546Z
DTSTART;VALUE=DATE:20260523
LOCATION:The Echo\, Los Angeles
ORGANIZER;CN=:mailto:events@events.org
SEQUENCE:0
SUMMARY:Foxtide with Hana Eid - SOLD OUT
UID:97a28e5b-54da-41e9-9e76-10e78baecaf5
URL:https://events.org/e/Foxtide-with-Hana-Eid---SOLD-OUT/PID2594A
BEGIN:VALARM
ACTION:DISPLAY
SUMMARY:Reminder
TRIGGER:-P1D
END:VALARM
END:VEVENT
END:VCALENDAR
