BEGIN:VCALENDAR
METHOD:REQUEST
PRODID:-//events.orgNONSGML ical.net 4.0//EN
VERSION:2.0
BEGIN:VEVENT
DTEND;VALUE=DATE:20260524
DTSTAMP:20260422T091539Z
DTSTART;VALUE=DATE:20260524
LOCATION:Garcia's Chicago\, Chicago
ORGANIZER;CN=:mailto:events@events.org
SEQUENCE:0
SUMMARY:Bluegrass Brunch with Mudflapps
UID:62b69eec-c0f8-4aba-bb2f-955843dfbcd4
URL:https://events.org/e/Bluegrass-Brunch-with-Mudflapps/KIWEX435
BEGIN:VALARM
ACTION:DISPLAY
SUMMARY:Reminder
TRIGGER:-P1D
END:VALARM
END:VEVENT
END:VCALENDAR
