BEGIN:VCALENDAR
METHOD:REQUEST
PRODID:-//events.orgNONSGML ical.net 4.0//EN
VERSION:2.0
BEGIN:VEVENT
DTEND;VALUE=DATE:20260712
DTSTAMP:20260421T164053Z
DTSTART;VALUE=DATE:20260712
LOCATION:Ball Arena\, Denver
ORGANIZER;CN=:mailto:events@events.org
SEQUENCE:0
SUMMARY:Hot Wheels Monster Trucks™ Live Glow-N-Fire
UID:e0561504-2375-41da-af49-e34782f78738
URL:https://events.org/e/Hot-Wheels-Monster-TrucksT-Live-Glow-N-Fire/HWNUP
 72P
BEGIN:VALARM
ACTION:DISPLAY
SUMMARY:Reminder
TRIGGER:-P1D
END:VALARM
END:VEVENT
END:VCALENDAR
