BEGIN:VCALENDAR
METHOD:REQUEST
PRODID:-//events.orgNONSGML ical.net 4.0//EN
VERSION:2.0
BEGIN:VEVENT
DTEND;VALUE=DATE:20260704
DTSTAMP:20260421T104445Z
DTSTART;VALUE=DATE:20260704
LOCATION:Empower Field At Mile High\, Denver
ORGANIZER;CN=:mailto:events@events.org
SEQUENCE:0
SUMMARY:Ed Sheeran: LOOP Tour
UID:fb3c9151-29a6-4e74-a3e5-bf56d78e1462
URL:https://events.org/e/Ed-Sheeran-LOOP-Tour/NUTI2FR4
BEGIN:VALARM
ACTION:DISPLAY
SUMMARY:Reminder
TRIGGER:-P1D
END:VALARM
END:VEVENT
END:VCALENDAR
