BEGIN:VCALENDAR
METHOD:REQUEST
PRODID:-//events.orgNONSGML ical.net 4.0//EN
VERSION:2.0
BEGIN:VEVENT
DTEND;VALUE=DATE:20260421
DTSTAMP:20260421T082026Z
DTSTART;VALUE=DATE:20260421
LOCATION:Music Box Theatre\, New York
ORGANIZER;CN=:mailto:events@events.org
SEQUENCE:0
SUMMARY:Giant
UID:81b231cf-4923-494c-8749-f1274c370657
URL:https://events.org/e/Giant/LDCJWJ6Q
BEGIN:VALARM
ACTION:DISPLAY
SUMMARY:Reminder
TRIGGER:-P1D
END:VALARM
END:VEVENT
END:VCALENDAR
