BEGIN:VCALENDAR
METHOD:REQUEST
PRODID:-//events.orgNONSGML ical.net 4.0//EN
VERSION:2.0
BEGIN:VEVENT
DTEND;VALUE=DATE:20260627
DTSTAMP:20260421T095555Z
DTSTART;VALUE=DATE:20260627
LOCATION:MGM Music Hall at Fenway\, Boston
ORGANIZER;CN=:mailto:events@events.org
SEQUENCE:0
SUMMARY:CA7RIEL & Paco Amoroso: FREE SPIRITS WORLD TOUR
UID:491629ed-c99f-4b67-9fa4-b4ab6ef82635
URL:https://events.org/e/CA7RIEL-Paco-Amoroso-FREE-SPIRITS-WORLD-TOUR/H56N
 ROKJ
BEGIN:VALARM
ACTION:DISPLAY
SUMMARY:Reminder
TRIGGER:-P1D
END:VALARM
END:VEVENT
END:VCALENDAR
