BEGIN:VCALENDAR
METHOD:REQUEST
PRODID:-//events.orgNONSGML ical.net 4.0//EN
VERSION:2.0
BEGIN:VEVENT
DTEND;VALUE=DATE:20260620
DTSTAMP:20260424T092617Z
DTSTART;VALUE=DATE:20260620
LOCATION:Varsity Theater\, Minneapolis
ORGANIZER;CN=:mailto:events@events.org
SEQUENCE:0
SUMMARY:Blade Rave
UID:46b81002-de36-40d4-8658-f0dfa601a198
URL:https://events.org/e/Blade-Rave/M8D3QXEK
BEGIN:VALARM
ACTION:DISPLAY
SUMMARY:Reminder
TRIGGER:-P1D
END:VALARM
END:VEVENT
END:VCALENDAR
