BEGIN:VCALENDAR
METHOD:REQUEST
PRODID:-//events.orgNONSGML ical.net 4.0//EN
VERSION:2.0
BEGIN:VEVENT
DTEND;VALUE=DATE:20260708
DTSTAMP:20260421T104354Z
DTSTART;VALUE=DATE:20260708
LOCATION:PETCO Park\, San Diego
ORGANIZER;CN=:mailto:events@events.org
SEQUENCE:0
SUMMARY:San Diego Padres vs Arizona Diamondbacks: Trevor Hoffman Bobblehead
UID:1d7507cc-30f5-42f0-bcdd-29c490c88be0
URL:https://events.org/e/San-Diego-Padres-vs-Arizona-Diamondbacks-Trev/LJR
 Q8BK5
BEGIN:VALARM
ACTION:DISPLAY
SUMMARY:Reminder
TRIGGER:-P1D
END:VALARM
END:VEVENT
END:VCALENDAR
