BEGIN:VCALENDAR
METHOD:REQUEST
PRODID:-//events.orgNONSGML ical.net 4.0//EN
VERSION:2.0
BEGIN:VEVENT
DTEND;VALUE=DATE:20260424
DTSTAMP:20260422T090230Z
DTSTART;VALUE=DATE:20260424
LOCATION:The Salt Shed Indoors (Shed)\, Chicago
ORGANIZER;CN=:mailto:events@events.org
SEQUENCE:0
SUMMARY:BUNT.
UID:2898f194-6d00-4b58-9f21-71837cdcbd16
URL:https://events.org/e/BUNT/C2BA7WCH
BEGIN:VALARM
ACTION:DISPLAY
SUMMARY:Reminder
TRIGGER:-P1D
END:VALARM
END:VEVENT
END:VCALENDAR
