BEGIN:VCALENDAR
METHOD:REQUEST
PRODID:-//events.orgNONSGML ical.net 4.0//EN
VERSION:2.0
BEGIN:VEVENT
DTEND:20260509T040000Z
DTSTAMP:20260421T082141Z
DTSTART:20260508T203000Z
LOCATION:Tam Golf Course\, West Howard Street\, Niles\, IL\, USA
ORGANIZER;CN=SMOW Holy Name Society:mailto:events@events.org
SEQUENCE:0
SUMMARY:2026 Grand Raffle Golf Gala
UID:88748a62-f6a1-4689-a90a-5f9d115ea1f0
URL:https://events.org/e/2026-Grand-Raffle-Golf-Gala/KJ34AWB2AV
BEGIN:VALARM
ACTION:DISPLAY
SUMMARY:Reminder
TRIGGER:-P1D
END:VALARM
END:VEVENT
END:VCALENDAR
